BEGIN:VCALENDAR
VERSION:2.0
PRODID:-//First Assembly of God Jefferson City, MO - ECPv6.15.20//NONSGML v1.0//EN
CALSCALE:GREGORIAN
METHOD:PUBLISH
X-WR-CALNAME:First Assembly of God Jefferson City, MO
X-ORIGINAL-URL:https://firstassembly.org
X-WR-CALDESC:Events for First Assembly of God Jefferson City, MO
REFRESH-INTERVAL;VALUE=DURATION:PT1H
X-Robots-Tag:noindex
X-PUBLISHED-TTL:PT1H
BEGIN:VTIMEZONE
TZID:America/Chicago
BEGIN:DAYLIGHT
TZOFFSETFROM:-0600
TZOFFSETTO:-0500
TZNAME:CDT
DTSTART:20240310T080000
END:DAYLIGHT
BEGIN:STANDARD
TZOFFSETFROM:-0500
TZOFFSETTO:-0600
TZNAME:CST
DTSTART:20241103T070000
END:STANDARD
BEGIN:DAYLIGHT
TZOFFSETFROM:-0600
TZOFFSETTO:-0500
TZNAME:CDT
DTSTART:20250309T080000
END:DAYLIGHT
BEGIN:STANDARD
TZOFFSETFROM:-0500
TZOFFSETTO:-0600
TZNAME:CST
DTSTART:20251102T070000
END:STANDARD
BEGIN:DAYLIGHT
TZOFFSETFROM:-0600
TZOFFSETTO:-0500
TZNAME:CDT
DTSTART:20260308T080000
END:DAYLIGHT
BEGIN:STANDARD
TZOFFSETFROM:-0500
TZOFFSETTO:-0600
TZNAME:CST
DTSTART:20261101T070000
END:STANDARD
END:VTIMEZONE
BEGIN:VEVENT
DTSTART;TZID=America/Chicago:20251030T180000
DTEND;TZID=America/Chicago:20251030T193000
DTSTAMP:20260423T140853
CREATED:20250820T145047Z
LAST-MODIFIED:20250909T152610Z
UID:23389-1761847200-1761852600@firstassembly.org
SUMMARY:Veterans Fellowship
DESCRIPTION:All veterans are invited to join us in the gym for some great food and fellowship.  Bring a spouse or friend.  No cost. \nPlease register on Realm or call the church office at 573.635.0159. \n  \n  \nRegistration Link
URL:https://firstassembly.org/events/veterans-fellowship-3/
LOCATION:First Assembly Gym\, 1900 State Hwy C\, Jefferson City\, MO\, 65109\, United States
CATEGORIES:Veterans
END:VEVENT
BEGIN:VEVENT
DTSTART;TZID=America/Chicago:20251030T063000
DTEND;TZID=America/Chicago:20251030T080000
DTSTAMP:20260423T140854
CREATED:20250930T140007Z
LAST-MODIFIED:20250930T140007Z
UID:23575-1761805800-1761811200@firstassembly.org
SUMMARY:Men's Bible Study
DESCRIPTION:Join us for a Men’s Bible Study every Thursday\, at 6:30 am in the Conference Room.
URL:https://firstassembly.org/events/mens-bible-study-9/
LOCATION:Conference Room\, 1900 Route C\, Jefferson City\, MO\, 65109\, United States
CATEGORIES:Mens - M6
ATTACH;FMTTYPE=image/jpeg:https://firstassembly.org/wp-content/uploads/2023/07/mensBibleStudy_screen.jpg
END:VEVENT
BEGIN:VEVENT
DTSTART;TZID=America/Chicago:20251029T190000
DTEND;TZID=America/Chicago:20251029T203000
DTSTAMP:20260423T140854
CREATED:20250930T142841Z
LAST-MODIFIED:20250930T142841Z
UID:23585-1761764400-1761769800@firstassembly.org
SUMMARY:Wednesday Evening Services
DESCRIPTION:Come join us on a Wednesday night! \n\nSanctuary Bible Study with Pastor Perkins\nYoung Adult Services (Ages 18-29) in Room 200\nYouth Service (Grades 6-12) in the Gym\nKids Ministries (K-5th Grade) in Room 307 & 308\nNurseries for Ages 0-3 next to the Sanctuary
URL:https://firstassembly.org/events/wednesday-evening-services-12/
LOCATION:Church\, 1900 Route C\, Jefferson City\, MO\, 65109\, United States
CATEGORIES:All Church
ATTACH;FMTTYPE=image/png:https://firstassembly.org/wp-content/uploads/2024/08/20240828_wednesday-service.png
END:VEVENT
BEGIN:VEVENT
DTSTART;TZID=America/Chicago:20251028T090000
DTEND;TZID=America/Chicago:20251028T110000
DTSTAMP:20260423T140854
CREATED:20250930T144316Z
LAST-MODIFIED:20250930T144316Z
UID:23593-1761642000-1761649200@firstassembly.org
SUMMARY:Women's Bible Study
DESCRIPTION:Join us for a Women’s Bible Study every Tuesday\, at 9:15 am in Room 101.
URL:https://firstassembly.org/events/womens-bible-study-8/
LOCATION:Room 101\, 1900 Route C\, Jefferson City\, 65109\, United States
CATEGORIES:Women
ATTACH;FMTTYPE=image/jpeg:https://firstassembly.org/wp-content/uploads/2023/07/womensBibleStudy_screen.jpg
END:VEVENT
BEGIN:VEVENT
DTSTART;TZID=America/Chicago:20251024T173000
DTEND;TZID=America/Chicago:20251025T150000
DTSTAMP:20260423T140854
CREATED:20250909T153609Z
LAST-MODIFIED:20250909T153609Z
UID:23438-1761327000-1761404400@firstassembly.org
SUMMARY:Gather Conference
DESCRIPTION:FOR SUCH A TIME AS THIS \nA weekend to rest in God’s presence\, reflect on His Word\, and be refreshed with friends… \nWe all have seasons of good and bad\, highs and lows. When the challenges and responsibilities mount up\, have you ever wondered why am I here? Do your thoughts wander and lead you to question\, why is life so hard? Perhaps  you’ve cried out\, “God\, I just don’t understand what you want from me!” \nWhen your prayers feel unheard\, and your heart grows weary\, it’s easy to feel alone. We are tempted to grow more quiet and pull away…from God\, our family and our friends. \nBut God designed you for deep connection both with Himself and others. There is hope! You can live the deeply connected life that God created you to live. \nWe would love to have you join us! \nOUR 3RD ANNUAL WOMEN’S GATHER CONFERENCE \nFriday\, October 24 @ 5:30pm – Saturday\, October 25\, 2025 @ 3pm \nThis year’s theme\, For Such a Time as This\, is a poignant reminder of God’s divine purpose for each one of His children. Nothing touches our lives that He does not use for good. Reach out and know\, God loves you\, and there is hope. \nOUR FEATURED SPEAKER: BECKY HARLING \nWe are so excited to welcome Becky Harling to Gather 2025. \nBecky Harling is a gifted speaker and author known for her passion and humor. Married to Steve Harling\, they have four children and a growing tribe of fourteen grandchildren. Together\, they have dedicated themselves to ministry\, traveling both together and separately across the globe. Becky fondly states that when she married Steve\, he gave her the world. \nAs a dynamic speaker\, Becky engages audiences with authenticity and a Biblical foundation. Her speaking engagements span a variety of venues\, from large conferences with thousands in attendance to intimate gatherings with just a few listeners. Regardless of the setting\, she finds immense joy in sharing her message. \nBecky is the author of 16 books\, with her latest work\, Friendwise: Practical Ideas For Richer Relationships\, set to release in 2026. She has a passion for media and frequently appears as a guest on radio shows\, television programs\, and podcasts. Additionally\, she hosts The Connected Mom podcast\, which reaches listeners in over 50 countries\, and provides leadership and communications coaching. \nIn her free time\, Becky enjoys walking on the beach\, hiking with her husband\, spending quality time with her children\, playing with her grandchildren\, and enjoying meaningful conversations over a strong cup of coffee with friends. \nSCHEDULE OF EVENTS \nFriday Night – October 24 \nDoors open @ 5:30 for food\, fellowship & boutique shopping \nWelcome @ 6:30 in Sanctuary \nWorship with Rebekah\, and a word from Becky will follow. \nChildcare available\, ages 4-9 only. Friday evening only. Please register as space is limited. \nSaturday Morning – October 25 \nDoors open @ 8:30am for coffee and light snacks & more shopping \n9:10am : Worship with Rebekah\, and more from Becky \n11:30am: Lunch and last shopping \n12:45: Becky’s final word \n2:15: Wrap-up & farewell \n  \n  \n  \nRegistration Link
URL:https://firstassembly.org/events/gather-conference-2/
LOCATION:First Assembly Sanctuary\, 1900 Route C\, Jefferson City\, MO\, 65109\, United States
CATEGORIES:Women
END:VEVENT
BEGIN:VEVENT
DTSTART;TZID=America/Chicago:20251023T063000
DTEND;TZID=America/Chicago:20251023T080000
DTSTAMP:20260423T140854
CREATED:20250930T135808Z
LAST-MODIFIED:20250930T135808Z
UID:23573-1761201000-1761206400@firstassembly.org
SUMMARY:Men's Bible Study
DESCRIPTION:Join us for a Men’s Bible Study every Thursday\, at 6:30 am in the Conference Room.
URL:https://firstassembly.org/events/mens-bible-study-8/
LOCATION:Conference Room\, 1900 Route C\, Jefferson City\, MO\, 65109\, United States
CATEGORIES:Mens - M6
ATTACH;FMTTYPE=image/jpeg:https://firstassembly.org/wp-content/uploads/2023/07/mensBibleStudy_screen.jpg
END:VEVENT
BEGIN:VEVENT
DTSTART;TZID=America/Chicago:20251022T190000
DTEND;TZID=America/Chicago:20251022T203000
DTSTAMP:20260423T140854
CREATED:20250930T142536Z
LAST-MODIFIED:20250930T142536Z
UID:23583-1761159600-1761165000@firstassembly.org
SUMMARY:Wednesday Evening Services
DESCRIPTION:Come join us on a Wednesday night! \n\nSanctuary Bible Study with Pastor Perkins\nYoung Adult Services (Ages 18-29) in Room 200\nYouth Service (Grades 6-12) in the Gym\nKids Ministries (K-5th Grade) in Room 307 & 308\nNurseries for Ages 0-3 next to the Sanctuary
URL:https://firstassembly.org/events/wednesday-evening-services-11/
LOCATION:Church\, 1900 Route C\, Jefferson City\, MO\, 65109\, United States
CATEGORIES:All Church
ATTACH;FMTTYPE=image/png:https://firstassembly.org/wp-content/uploads/2024/08/20240828_wednesday-service.png
END:VEVENT
BEGIN:VEVENT
DTSTART;TZID=America/Chicago:20251021T090000
DTEND;TZID=America/Chicago:20251021T110000
DTSTAMP:20260423T140854
CREATED:20250930T144150Z
LAST-MODIFIED:20250930T144150Z
UID:23591-1761037200-1761044400@firstassembly.org
SUMMARY:Women's Bible Study
DESCRIPTION:Join us for a Women’s Bible Study every Tuesday\, at 9:15 am in Room 101.
URL:https://firstassembly.org/events/womens-bible-study-7/
LOCATION:Room 101\, 1900 Route C\, Jefferson City\, 65109\, United States
CATEGORIES:Women
ATTACH;FMTTYPE=image/jpeg:https://firstassembly.org/wp-content/uploads/2023/07/womensBibleStudy_screen.jpg
END:VEVENT
BEGIN:VEVENT
DTSTART;TZID=America/Chicago:20251017T163000
DTEND;TZID=America/Chicago:20251017T220000
DTSTAMP:20260423T140854
CREATED:20250909T152946Z
LAST-MODIFIED:20250909T152946Z
UID:23435-1760718600-1760738400@firstassembly.org
SUMMARY:Youth Rally
DESCRIPTION:Join us for a Youth Rally with other young people from our Capital City Area!! We will leave from the church at 4:30pm and travel to St. Robert\, MO. The event is from 6:00-8pm and then we will travel back to church\, arriving around 10pm. \nSt. Robert First Assembly will have worship\, a speaker\, game\, and food! \nThis is a FREE event. Bring you friends! \nWe will DEPART from the church at 4:30pm so just come after school and be home around 10pm. We will update parents as we head home. \n  \n  \nRegistration Link
URL:https://firstassembly.org/events/youth-rally-5/
LOCATION:St. Roberts Assembly of God\, 919 State Hwy Z\, St. Robert\, MO\, 65584\, United States
CATEGORIES:Youth
END:VEVENT
BEGIN:VEVENT
DTSTART;TZID=America/Chicago:20251016T063000
DTEND;TZID=America/Chicago:20251016T080000
DTSTAMP:20260423T140854
CREATED:20250930T135639Z
LAST-MODIFIED:20250930T135639Z
UID:23571-1760596200-1760601600@firstassembly.org
SUMMARY:Men's Bible Study
DESCRIPTION:Join us for a Men’s Bible Study every Thursday\, at 6:30 am in the Conference Room.
URL:https://firstassembly.org/events/mens-bible-study-7/
LOCATION:Conference Room\, 1900 Route C\, Jefferson City\, MO\, 65109\, United States
CATEGORIES:Mens - M6
ATTACH;FMTTYPE=image/jpeg:https://firstassembly.org/wp-content/uploads/2023/07/mensBibleStudy_screen.jpg
END:VEVENT
BEGIN:VEVENT
DTSTART;TZID=America/Chicago:20251015T190000
DTEND;TZID=America/Chicago:20251015T203000
DTSTAMP:20260423T140854
CREATED:20250930T142339Z
LAST-MODIFIED:20250930T142339Z
UID:23581-1760554800-1760560200@firstassembly.org
SUMMARY:Wednesday Evening Services
DESCRIPTION:Come join us on a Wednesday night! \n\nSanctuary Bible Study with Pastor Perkins\nYoung Adult Services (Ages 18-29) in Room 200\nYouth Service (Grades 6-12) in the Gym\nKids Ministries (K-5th Grade) in Room 307 & 308\nNurseries for Ages 0-3 next to the Sanctuary
URL:https://firstassembly.org/events/wednesday-evening-services-10/
LOCATION:Church\, 1900 Route C\, Jefferson City\, MO\, 65109\, United States
CATEGORIES:All Church
ATTACH;FMTTYPE=image/png:https://firstassembly.org/wp-content/uploads/2024/08/20240828_wednesday-service.png
END:VEVENT
BEGIN:VEVENT
DTSTART;TZID=America/Chicago:20251014T090000
DTEND;TZID=America/Chicago:20251014T110000
DTSTAMP:20260423T140854
CREATED:20250930T144017Z
LAST-MODIFIED:20250930T144017Z
UID:23589-1760432400-1760439600@firstassembly.org
SUMMARY:Women's Bible Study
DESCRIPTION:Join us for a Women’s Bible Study every Tuesday\, at 9:15 am in Room 101.
URL:https://firstassembly.org/events/womens-bible-study-6/
LOCATION:Room 101\, 1900 Route C\, Jefferson City\, 65109\, United States
CATEGORIES:Women
ATTACH;FMTTYPE=image/jpeg:https://firstassembly.org/wp-content/uploads/2023/07/womensBibleStudy_screen.jpg
END:VEVENT
BEGIN:VEVENT
DTSTART;TZID=America/Chicago:20251010T190000
DTEND;TZID=America/Chicago:20251010T220000
DTSTAMP:20260423T140854
CREATED:20250930T133212Z
LAST-MODIFIED:20250930T133212Z
UID:23563-1760122800-1760133600@firstassembly.org
SUMMARY:YA Outdoor Movie & Bonfire
DESCRIPTION:First Young Adults are going to the movies – well\, at the Bonham home that is. And there will be fire pits\, hot dogs\, and s’mores! \nPlease bring your own lawn chair\, blanket\, or whatever you want to sit/lie on and enjoy a great movie and wonderful friends. \nDate: October 10\, 2025 \nWhere: Bonham yard (218 Chris Drive) \nFeel free to bring some friends! (just please register them) \n  \n  \n  \nRegistration Link
URL:https://firstassembly.org/events/ya-outdoor-movie-bonfire/
LOCATION:Bonham Home\, 218 Chris Dr\, Jefferson City\, MO\, 65101\, United States
CATEGORIES:Young Adults
END:VEVENT
BEGIN:VEVENT
DTSTART;TZID=America/Chicago:20251009T063000
DTEND;TZID=America/Chicago:20251009T080000
DTSTAMP:20260423T140854
CREATED:20250930T135522Z
LAST-MODIFIED:20250930T135522Z
UID:23569-1759991400-1759996800@firstassembly.org
SUMMARY:Men's Bible Study
DESCRIPTION:Join us for a Men’s Bible Study every Thursday\, at 6:30 am in the Conference Room.
URL:https://firstassembly.org/events/mens-bible-study-6/
LOCATION:Conference Room\, 1900 Route C\, Jefferson City\, MO\, 65109\, United States
CATEGORIES:Mens - M6
ATTACH;FMTTYPE=image/jpeg:https://firstassembly.org/wp-content/uploads/2023/07/mensBibleStudy_screen.jpg
END:VEVENT
BEGIN:VEVENT
DTSTART;TZID=America/Chicago:20251008T190000
DTEND;TZID=America/Chicago:20251008T203000
DTSTAMP:20260423T140854
CREATED:20250930T142135Z
LAST-MODIFIED:20250930T142135Z
UID:23579-1759950000-1759955400@firstassembly.org
SUMMARY:Wednesday Evening Services
DESCRIPTION:Come join us on a Wednesday night! \n\nSanctuary Bible Study with Pastor Perkins\nYoung Adult Services (Ages 18-29) in Room 200\nYouth Service (Grades 6-12) in the Gym\nKids Ministries (K-5th Grade) in Room 307 & 308\nNurseries for Ages 0-3 next to the Sanctuary
URL:https://firstassembly.org/events/wednesday-evening-services-9/
LOCATION:Church\, 1900 Route C\, Jefferson City\, MO\, 65109\, United States
CATEGORIES:All Church
ATTACH;FMTTYPE=image/png:https://firstassembly.org/wp-content/uploads/2024/08/20240828_wednesday-service.png
END:VEVENT
BEGIN:VEVENT
DTSTART;TZID=America/Chicago:20251007T090000
DTEND;TZID=America/Chicago:20251007T110000
DTSTAMP:20260423T140854
CREATED:20250930T143818Z
LAST-MODIFIED:20250930T143818Z
UID:23587-1759827600-1759834800@firstassembly.org
SUMMARY:Women's Bible Study
DESCRIPTION:Join us for a Women’s Bible Study every Tuesday\, at 9:15 am in Room 101.
URL:https://firstassembly.org/events/womens-bible-study-5/
LOCATION:Room 101\, 1900 Route C\, Jefferson City\, 65109\, United States
CATEGORIES:Women
ATTACH;FMTTYPE=image/jpeg:https://firstassembly.org/wp-content/uploads/2023/07/womensBibleStudy_screen.jpg
END:VEVENT
BEGIN:VEVENT
DTSTART;TZID=America/Chicago:20251002T063000
DTEND;TZID=America/Chicago:20251002T080000
DTSTAMP:20260423T140854
CREATED:20250930T135342Z
LAST-MODIFIED:20250930T135342Z
UID:23567-1759386600-1759392000@firstassembly.org
SUMMARY:Men's Bible Study
DESCRIPTION:Join us for a Men’s Bible Study every Thursday\, at 6:30 am in the Conference Room.
URL:https://firstassembly.org/events/mens-bible-study-5/
LOCATION:Conference Room\, 1900 Route C\, Jefferson City\, MO\, 65109\, United States
CATEGORIES:Mens - M6
ATTACH;FMTTYPE=image/jpeg:https://firstassembly.org/wp-content/uploads/2023/07/mensBibleStudy_screen.jpg
END:VEVENT
BEGIN:VEVENT
DTSTART;TZID=America/Chicago:20251001T190000
DTEND;TZID=America/Chicago:20251001T203000
DTSTAMP:20260423T140854
CREATED:20250930T141935Z
LAST-MODIFIED:20250930T141935Z
UID:23577-1759345200-1759350600@firstassembly.org
SUMMARY:Wednesday Evening Services
DESCRIPTION:Come join us on a Wednesday night! \n\nSanctuary Bible Study with Pastor Perkins\nYoung Adult Services (Ages 18-29) in Room 200\nYouth Service (Grades 6-12) in the Gym\nKids Ministries (K-5th Grade) in Room 307 & 308\nNurseries for Ages 0-3 next to the Sanctuary
URL:https://firstassembly.org/events/wednesday-evening-services-8/
LOCATION:Church\, 1900 Route C\, Jefferson City\, MO\, 65109\, United States
CATEGORIES:All Church
ATTACH;FMTTYPE=image/png:https://firstassembly.org/wp-content/uploads/2024/08/20240828_wednesday-service.png
END:VEVENT
BEGIN:VEVENT
DTSTART;TZID=America/Chicago:20250919T173000
DTEND;TZID=America/Chicago:20250919T220000
DTSTAMP:20260423T140854
CREATED:20250820T142439Z
LAST-MODIFIED:20250820T142439Z
UID:23383-1758303000-1758319200@firstassembly.org
SUMMARY:YA Corn Maze
DESCRIPTION:Young Adults (18-29) are headed to a CORN MAZE\, on Friday\, September 19\, 2025. Join us as we tackle a 16-acre life-sized corn maze\, at Shyrock’s Callaway Farms. \nWe will depart from church at 5:30 pm and return around 10 pm. \nCost is $15. After we get lost in the corn maze\, we’ll head to some local food. \nYou can join us on the church buses or carpool. Please text Pastor Lisa at 573.694.0006 to let her know you’ll be going and whether you will ride the bus or carpool. \n  \n  \nRegistration Link
URL:https://firstassembly.org/events/ya-corn-maze/
LOCATION:Shryock Callaway Farms\, 2927 County Road 253\, Columbia\, MO\, 65202-5320\, United States
CATEGORIES:Young Adults
ATTACH;FMTTYPE=image/jpeg:https://firstassembly.org/wp-content/uploads/2025/08/image.jpeg
END:VEVENT
BEGIN:VEVENT
DTSTART;TZID=America/Chicago:20250919T170000
DTEND;TZID=America/Chicago:20250920T120000
DTSTAMP:20260423T140854
CREATED:20250909T154527Z
LAST-MODIFIED:20250909T154527Z
UID:23444-1758301200-1758369600@firstassembly.org
SUMMARY:Kids Family Campout
DESCRIPTION:We’ll be leaving the church at 5:00pm to head to Buc-A-Roni Ranch. Once there\, we’ll setup camp\, roast hot dogs and marshmallows\, and play games. Saturday\, we’ll have a delicious camp breakfast\, take a fun hike\, play in the creek\, have lunch\, then\, pack-up and head home. \nCost: $10 per family for food and supplies. \n  \n  \nRegistration Link
URL:https://firstassembly.org/events/kids-family-campout-3/
LOCATION:Buc-A-Roni Ranch\, 8162 River Ranch Trail\, Fulton\, MO\, 65251\, United States
CATEGORIES:Kids
END:VEVENT
BEGIN:VEVENT
DTSTART;TZID=America/Chicago:20250912T190000
DTEND;TZID=America/Chicago:20250912T210000
DTSTAMP:20260423T140854
CREATED:20250909T151710Z
LAST-MODIFIED:20250909T151710Z
UID:23430-1757703600-1757710800@firstassembly.org
SUMMARY:Youth Nerf and Nachos
DESCRIPTION:We are eating delicious food and having an amazing friendly nerf competition on September 12\, 2025\, from 7-9pm! Join us for some exhilarating fun! \nFREE and includes nerf darts. You may bring your own nerf blasters-there will be also be some blasters available for those who do not bring their own. Please do NOT bring your own darts as they will get mixed in with those provided. Please only bring blasters that use 2.8″ x 0.5″ darts. Do NOT bring Rival or Mega blasters or darts. \nYou may bring your own eye protection if desired. \nBring a friend and register on Realm. \n  \n  \nRegistration Link
URL:https://firstassembly.org/events/youth-nerf-and-nachos/
LOCATION:First Assembly Gym\, 1900 State Hwy C\, Jefferson City\, MO\, 65109\, United States
CATEGORIES:Youth
END:VEVENT
BEGIN:VEVENT
DTSTART;TZID=America/Chicago:20250905T110000
DTEND;TZID=America/Chicago:20250906T210000
DTSTAMP:20260423T140854
CREATED:20250611T140849Z
LAST-MODIFIED:20250611T140849Z
UID:23122-1757070000-1757192400@firstassembly.org
SUMMARY:50+ Trip to Branson
DESCRIPTION:Join us for an overnighter to Branson on September 5-6\, 2025! \nCost is $260/person which includes:  1 Night Hotel Accommodation (2/room occupancy**); 2 Shows; 3 Meals (breakfast + 2 dinners); Transportation; and Gratuities. \nHere are the particulars… We’ll depart on Friday (5th) at 11am and return Saturday (6th) around 9pm. We will enjoy our time in Branson at The Dutton Inn\, Fall Creek Steak & Catfish House\, The Dutton Family Show\, DAVID at Sight-n-Sound Theatre\, and the Grand Country Buffet! \nTrip requirements:  Minimum of 10 Registrations; $60 non-refundable deposit due at time of registration. Registration deadline is August 3. Remainder $200 due by August 10. \nThere will only be space for each person to bring a small carry-on\, so plan well. \n**1/room single occupancy $25 extra \n  \n  \nRegistration Link
URL:https://firstassembly.org/events/50-trip-to-branson-4/
LOCATION:MO
CATEGORIES:50+
END:VEVENT
BEGIN:VEVENT
DTSTART;TZID=America/Chicago:20250828T173000
DTEND;TZID=America/Chicago:20250828T190000
DTSTAMP:20260423T140854
CREATED:20250820T141440Z
LAST-MODIFIED:20250820T141440Z
UID:23380-1756402200-1756407600@firstassembly.org
SUMMARY:50+ Fellowship Dinner
DESCRIPTION:Join us on Thursday\, August 28\, at 5:30pm in the gym for a night of food\, fun and fellowship! Let’s bring your favorite casserole\, side\, salad and/or dessert to share! \n  \n  \nRegistration Link
URL:https://firstassembly.org/events/50-fellowship-dinner-3/
LOCATION:First Assembly Gym\, 1900 State Hwy C\, Jefferson City\, MO\, 65109\, United States
CATEGORIES:50+
ATTACH;FMTTYPE=image/png:https://firstassembly.org/wp-content/uploads/2025/08/Screenshot-2025-08-19-at-5.13.44-PM.png
END:VEVENT
BEGIN:VEVENT
DTSTART;TZID=America/Chicago:20250828T063000
DTEND;TZID=America/Chicago:20250828T080000
DTSTAMP:20260423T140854
CREATED:20250727T122800Z
LAST-MODIFIED:20250727T122800Z
UID:23302-1756362600-1756368000@firstassembly.org
SUMMARY:Men's Bible Study
DESCRIPTION:Join us for a Men’s Bible Study every Thursday\, at 6:30 am in the Conference Room.
URL:https://firstassembly.org/events/mens-bible-study-4-5-2-2-4-5-2-5-5/
LOCATION:Conference Room\, 1900 Route C\, Jefferson City\, MO\, 65109\, United States
CATEGORIES:Mens - M6
ATTACH;FMTTYPE=image/jpeg:https://firstassembly.org/wp-content/uploads/2023/07/mensBibleStudy_screen.jpg
END:VEVENT
BEGIN:VEVENT
DTSTART;TZID=America/Chicago:20250827T190000
DTEND;TZID=America/Chicago:20250827T203000
DTSTAMP:20260423T140854
CREATED:20250727T122617Z
LAST-MODIFIED:20250727T122617Z
UID:23306-1756321200-1756326600@firstassembly.org
SUMMARY:Bienvenidos Ministerio en Español
DESCRIPTION:Domingo: Escuela Dominical – 9:00AM (Cuarto 300) \nServicio de Adoración – 10:00AM (Cuarto 303) \n  \nMiércoles: Esudio Bíblico – 7:00PM (Cuarto 100)
URL:https://firstassembly.org/events/bienvenidos-ministerio-en-espanol-4-6-2-4-5-2-5-5/
LOCATION:Room 100\, United States
CATEGORIES:Spanish
ATTACH;FMTTYPE=image/jpeg:https://firstassembly.org/wp-content/uploads/2025/02/20250312_Spanish-Ministry.jpg
END:VEVENT
BEGIN:VEVENT
DTSTART;TZID=America/Chicago:20250827T190000
DTEND;TZID=America/Chicago:20250827T203000
DTSTAMP:20260423T140854
CREATED:20250727T122410Z
LAST-MODIFIED:20250727T122410Z
UID:23310-1756321200-1756326600@firstassembly.org
SUMMARY:Wednesday Evening Services
DESCRIPTION:Come join us on a Wednesday night! \n\nSanctuary Bible Study with Pastor Perkins\nYoung Adult Services (Ages 18-29) in Room 200\nYouth Service (Grades 6-12) in the Gym\nKids Ministries (K-5th Grade) in Room 307 & 308\nNurseries for Ages 0-3 next to the Sanctuary
URL:https://firstassembly.org/events/wednesday-evening-services-7-6-2-4-5-2-5-5/
LOCATION:Church\, 1900 Route C\, Jefferson City\, MO\, 65109\, United States
CATEGORIES:All Church
ATTACH;FMTTYPE=image/png:https://firstassembly.org/wp-content/uploads/2024/08/20240828_wednesday-service.png
END:VEVENT
BEGIN:VEVENT
DTSTART;TZID=America/Chicago:20250826T090000
DTEND;TZID=America/Chicago:20250826T110000
DTSTAMP:20260423T140854
CREATED:20250727T122113Z
LAST-MODIFIED:20250727T122113Z
UID:23314-1756198800-1756206000@firstassembly.org
SUMMARY:Women's Bible Study
DESCRIPTION:Join us for a Women’s Bible Study every Tuesday\, at 9:15 am in Room 101.
URL:https://firstassembly.org/events/womens-bible-study-4-6-2-4-5-2-5-5/
LOCATION:Room 101\, 1900 Route C\, Jefferson City\, 65109\, United States
CATEGORIES:Women
ATTACH;FMTTYPE=image/jpeg:https://firstassembly.org/wp-content/uploads/2023/07/womensBibleStudy_screen.jpg
END:VEVENT
BEGIN:VEVENT
DTSTART;TZID=America/Chicago:20250821T063000
DTEND;TZID=America/Chicago:20250821T080000
DTSTAMP:20260423T140854
CREATED:20250727T122711Z
LAST-MODIFIED:20250727T122711Z
UID:23301-1755757800-1755763200@firstassembly.org
SUMMARY:Men's Bible Study
DESCRIPTION:Join us for a Men’s Bible Study every Thursday\, at 6:30 am in the Conference Room.
URL:https://firstassembly.org/events/mens-bible-study-4-5-2-2-4-5-2-5-4/
LOCATION:Conference Room\, 1900 Route C\, Jefferson City\, MO\, 65109\, United States
CATEGORIES:Mens - M6
ATTACH;FMTTYPE=image/jpeg:https://firstassembly.org/wp-content/uploads/2023/07/mensBibleStudy_screen.jpg
END:VEVENT
BEGIN:VEVENT
DTSTART;TZID=America/Chicago:20250820T190000
DTEND;TZID=America/Chicago:20250820T203000
DTSTAMP:20260423T140854
CREATED:20250727T122216Z
LAST-MODIFIED:20250727T122216Z
UID:23309-1755716400-1755721800@firstassembly.org
SUMMARY:Wednesday Evening Services
DESCRIPTION:Come join us on a Wednesday night! \n\nSanctuary Bible Study with Pastor Perkins\nYoung Adult Services (Ages 18-29) in Room 200\nYouth Service (Grades 6-12) in the Gym\nKids Ministries (K-5th Grade) in Room 307 & 308\nNurseries for Ages 0-3 next to the Sanctuary
URL:https://firstassembly.org/events/wednesday-evening-services-7-6-2-4-5-2-5-4/
LOCATION:Church\, 1900 Route C\, Jefferson City\, MO\, 65109\, United States
CATEGORIES:All Church
ATTACH;FMTTYPE=image/png:https://firstassembly.org/wp-content/uploads/2024/08/20240828_wednesday-service.png
END:VEVENT
BEGIN:VEVENT
DTSTART;TZID=America/Chicago:20250819T090000
DTEND;TZID=America/Chicago:20250819T110000
DTSTAMP:20260423T140854
CREATED:20250727T122017Z
LAST-MODIFIED:20250727T122017Z
UID:23313-1755594000-1755601200@firstassembly.org
SUMMARY:Women's Bible Study
DESCRIPTION:Join us for a Women’s Bible Study every Tuesday\, at 9:15 am in Room 101.
URL:https://firstassembly.org/events/womens-bible-study-4-6-2-4-5-2-5-4/
LOCATION:Room 101\, 1900 Route C\, Jefferson City\, 65109\, United States
CATEGORIES:Women
ATTACH;FMTTYPE=image/jpeg:https://firstassembly.org/wp-content/uploads/2023/07/womensBibleStudy_screen.jpg
END:VEVENT
END:VCALENDAR