BEGIN:VCALENDAR
VERSION:2.0
PRODID:-//First Assembly of God Jefferson City, MO - ECPv6.15.20//NONSGML v1.0//EN
CALSCALE:GREGORIAN
METHOD:PUBLISH
X-ORIGINAL-URL:https://firstassembly.org
X-WR-CALDESC:Events for First Assembly of God Jefferson City, MO
REFRESH-INTERVAL;VALUE=DURATION:PT1H
X-Robots-Tag:noindex
X-PUBLISHED-TTL:PT1H
BEGIN:VTIMEZONE
TZID:America/Chicago
BEGIN:DAYLIGHT
TZOFFSETFROM:-0600
TZOFFSETTO:-0500
TZNAME:CDT
DTSTART:20240310T080000
END:DAYLIGHT
BEGIN:STANDARD
TZOFFSETFROM:-0500
TZOFFSETTO:-0600
TZNAME:CST
DTSTART:20241103T070000
END:STANDARD
BEGIN:DAYLIGHT
TZOFFSETFROM:-0600
TZOFFSETTO:-0500
TZNAME:CDT
DTSTART:20250309T080000
END:DAYLIGHT
BEGIN:STANDARD
TZOFFSETFROM:-0500
TZOFFSETTO:-0600
TZNAME:CST
DTSTART:20251102T070000
END:STANDARD
BEGIN:DAYLIGHT
TZOFFSETFROM:-0600
TZOFFSETTO:-0500
TZNAME:CDT
DTSTART:20260308T080000
END:DAYLIGHT
BEGIN:STANDARD
TZOFFSETFROM:-0500
TZOFFSETTO:-0600
TZNAME:CST
DTSTART:20261101T070000
END:STANDARD
END:VTIMEZONE
BEGIN:VEVENT
DTSTART;TZID=America/Chicago:20251002T063000
DTEND;TZID=America/Chicago:20251002T080000
DTSTAMP:20260423T153225
CREATED:20250930T135342Z
LAST-MODIFIED:20250930T135342Z
UID:23567-1759386600-1759392000@firstassembly.org
SUMMARY:Men's Bible Study
DESCRIPTION:Join us for a Men’s Bible Study every Thursday\, at 6:30 am in the Conference Room.
URL:https://firstassembly.org/events/mens-bible-study-5/
LOCATION:Conference Room\, 1900 Route C\, Jefferson City\, MO\, 65109\, United States
CATEGORIES:Mens - M6
ATTACH;FMTTYPE=image/jpeg:https://firstassembly.org/wp-content/uploads/2023/07/mensBibleStudy_screen.jpg
END:VEVENT
BEGIN:VEVENT
DTSTART;TZID=America/Chicago:20251001T190000
DTEND;TZID=America/Chicago:20251001T203000
DTSTAMP:20260423T153225
CREATED:20250930T141935Z
LAST-MODIFIED:20250930T141935Z
UID:23577-1759345200-1759350600@firstassembly.org
SUMMARY:Wednesday Evening Services
DESCRIPTION:Come join us on a Wednesday night! \n\nSanctuary Bible Study with Pastor Perkins\nYoung Adult Services (Ages 18-29) in Room 200\nYouth Service (Grades 6-12) in the Gym\nKids Ministries (K-5th Grade) in Room 307 & 308\nNurseries for Ages 0-3 next to the Sanctuary
URL:https://firstassembly.org/events/wednesday-evening-services-8/
LOCATION:Church\, 1900 Route C\, Jefferson City\, MO\, 65109\, United States
CATEGORIES:All Church
ATTACH;FMTTYPE=image/png:https://firstassembly.org/wp-content/uploads/2024/08/20240828_wednesday-service.png
END:VEVENT
BEGIN:VEVENT
DTSTART;TZID=America/Chicago:20250919T173000
DTEND;TZID=America/Chicago:20250919T220000
DTSTAMP:20260423T153225
CREATED:20250820T142439Z
LAST-MODIFIED:20250820T142439Z
UID:23383-1758303000-1758319200@firstassembly.org
SUMMARY:YA Corn Maze
DESCRIPTION:Young Adults (18-29) are headed to a CORN MAZE\, on Friday\, September 19\, 2025. Join us as we tackle a 16-acre life-sized corn maze\, at Shyrock’s Callaway Farms. \nWe will depart from church at 5:30 pm and return around 10 pm. \nCost is $15. After we get lost in the corn maze\, we’ll head to some local food. \nYou can join us on the church buses or carpool. Please text Pastor Lisa at 573.694.0006 to let her know you’ll be going and whether you will ride the bus or carpool. \n  \n  \nRegistration Link
URL:https://firstassembly.org/events/ya-corn-maze/
LOCATION:Shryock Callaway Farms\, 2927 County Road 253\, Columbia\, MO\, 65202-5320\, United States
CATEGORIES:Young Adults
ATTACH;FMTTYPE=image/jpeg:https://firstassembly.org/wp-content/uploads/2025/08/image.jpeg
END:VEVENT
BEGIN:VEVENT
DTSTART;TZID=America/Chicago:20250919T170000
DTEND;TZID=America/Chicago:20250920T120000
DTSTAMP:20260423T153225
CREATED:20250909T154527Z
LAST-MODIFIED:20250909T154527Z
UID:23444-1758301200-1758369600@firstassembly.org
SUMMARY:Kids Family Campout
DESCRIPTION:We’ll be leaving the church at 5:00pm to head to Buc-A-Roni Ranch. Once there\, we’ll setup camp\, roast hot dogs and marshmallows\, and play games. Saturday\, we’ll have a delicious camp breakfast\, take a fun hike\, play in the creek\, have lunch\, then\, pack-up and head home. \nCost: $10 per family for food and supplies. \n  \n  \nRegistration Link
URL:https://firstassembly.org/events/kids-family-campout-3/
LOCATION:Buc-A-Roni Ranch\, 8162 River Ranch Trail\, Fulton\, MO\, 65251\, United States
CATEGORIES:Kids
END:VEVENT
BEGIN:VEVENT
DTSTART;TZID=America/Chicago:20250912T190000
DTEND;TZID=America/Chicago:20250912T210000
DTSTAMP:20260423T153225
CREATED:20250909T151710Z
LAST-MODIFIED:20250909T151710Z
UID:23430-1757703600-1757710800@firstassembly.org
SUMMARY:Youth Nerf and Nachos
DESCRIPTION:We are eating delicious food and having an amazing friendly nerf competition on September 12\, 2025\, from 7-9pm! Join us for some exhilarating fun! \nFREE and includes nerf darts. You may bring your own nerf blasters-there will be also be some blasters available for those who do not bring their own. Please do NOT bring your own darts as they will get mixed in with those provided. Please only bring blasters that use 2.8″ x 0.5″ darts. Do NOT bring Rival or Mega blasters or darts. \nYou may bring your own eye protection if desired. \nBring a friend and register on Realm. \n  \n  \nRegistration Link
URL:https://firstassembly.org/events/youth-nerf-and-nachos/
LOCATION:First Assembly Gym\, 1900 State Hwy C\, Jefferson City\, MO\, 65109\, United States
CATEGORIES:Youth
END:VEVENT
BEGIN:VEVENT
DTSTART;TZID=America/Chicago:20250905T110000
DTEND;TZID=America/Chicago:20250906T210000
DTSTAMP:20260423T153225
CREATED:20250611T140849Z
LAST-MODIFIED:20250611T140849Z
UID:23122-1757070000-1757192400@firstassembly.org
SUMMARY:50+ Trip to Branson
DESCRIPTION:Join us for an overnighter to Branson on September 5-6\, 2025! \nCost is $260/person which includes:  1 Night Hotel Accommodation (2/room occupancy**); 2 Shows; 3 Meals (breakfast + 2 dinners); Transportation; and Gratuities. \nHere are the particulars… We’ll depart on Friday (5th) at 11am and return Saturday (6th) around 9pm. We will enjoy our time in Branson at The Dutton Inn\, Fall Creek Steak & Catfish House\, The Dutton Family Show\, DAVID at Sight-n-Sound Theatre\, and the Grand Country Buffet! \nTrip requirements:  Minimum of 10 Registrations; $60 non-refundable deposit due at time of registration. Registration deadline is August 3. Remainder $200 due by August 10. \nThere will only be space for each person to bring a small carry-on\, so plan well. \n**1/room single occupancy $25 extra \n  \n  \nRegistration Link
URL:https://firstassembly.org/events/50-trip-to-branson-4/
LOCATION:MO
CATEGORIES:50+
END:VEVENT
BEGIN:VEVENT
DTSTART;TZID=America/Chicago:20250828T173000
DTEND;TZID=America/Chicago:20250828T190000
DTSTAMP:20260423T153225
CREATED:20250820T141440Z
LAST-MODIFIED:20250820T141440Z
UID:23380-1756402200-1756407600@firstassembly.org
SUMMARY:50+ Fellowship Dinner
DESCRIPTION:Join us on Thursday\, August 28\, at 5:30pm in the gym for a night of food\, fun and fellowship! Let’s bring your favorite casserole\, side\, salad and/or dessert to share! \n  \n  \nRegistration Link
URL:https://firstassembly.org/events/50-fellowship-dinner-3/
LOCATION:First Assembly Gym\, 1900 State Hwy C\, Jefferson City\, MO\, 65109\, United States
CATEGORIES:50+
ATTACH;FMTTYPE=image/png:https://firstassembly.org/wp-content/uploads/2025/08/Screenshot-2025-08-19-at-5.13.44-PM.png
END:VEVENT
BEGIN:VEVENT
DTSTART;TZID=America/Chicago:20250828T063000
DTEND;TZID=America/Chicago:20250828T080000
DTSTAMP:20260423T153225
CREATED:20250727T122800Z
LAST-MODIFIED:20250727T122800Z
UID:23302-1756362600-1756368000@firstassembly.org
SUMMARY:Men's Bible Study
DESCRIPTION:Join us for a Men’s Bible Study every Thursday\, at 6:30 am in the Conference Room.
URL:https://firstassembly.org/events/mens-bible-study-4-5-2-2-4-5-2-5-5/
LOCATION:Conference Room\, 1900 Route C\, Jefferson City\, MO\, 65109\, United States
CATEGORIES:Mens - M6
ATTACH;FMTTYPE=image/jpeg:https://firstassembly.org/wp-content/uploads/2023/07/mensBibleStudy_screen.jpg
END:VEVENT
BEGIN:VEVENT
DTSTART;TZID=America/Chicago:20250827T190000
DTEND;TZID=America/Chicago:20250827T203000
DTSTAMP:20260423T153225
CREATED:20250727T122617Z
LAST-MODIFIED:20250727T122617Z
UID:23306-1756321200-1756326600@firstassembly.org
SUMMARY:Bienvenidos Ministerio en Español
DESCRIPTION:Domingo: Escuela Dominical – 9:00AM (Cuarto 300) \nServicio de Adoración – 10:00AM (Cuarto 303) \n  \nMiércoles: Esudio Bíblico – 7:00PM (Cuarto 100)
URL:https://firstassembly.org/events/bienvenidos-ministerio-en-espanol-4-6-2-4-5-2-5-5/
LOCATION:Room 100\, United States
CATEGORIES:Spanish
ATTACH;FMTTYPE=image/jpeg:https://firstassembly.org/wp-content/uploads/2025/02/20250312_Spanish-Ministry.jpg
END:VEVENT
BEGIN:VEVENT
DTSTART;TZID=America/Chicago:20250827T190000
DTEND;TZID=America/Chicago:20250827T203000
DTSTAMP:20260423T153225
CREATED:20250727T122410Z
LAST-MODIFIED:20250727T122410Z
UID:23310-1756321200-1756326600@firstassembly.org
SUMMARY:Wednesday Evening Services
DESCRIPTION:Come join us on a Wednesday night! \n\nSanctuary Bible Study with Pastor Perkins\nYoung Adult Services (Ages 18-29) in Room 200\nYouth Service (Grades 6-12) in the Gym\nKids Ministries (K-5th Grade) in Room 307 & 308\nNurseries for Ages 0-3 next to the Sanctuary
URL:https://firstassembly.org/events/wednesday-evening-services-7-6-2-4-5-2-5-5/
LOCATION:Church\, 1900 Route C\, Jefferson City\, MO\, 65109\, United States
CATEGORIES:All Church
ATTACH;FMTTYPE=image/png:https://firstassembly.org/wp-content/uploads/2024/08/20240828_wednesday-service.png
END:VEVENT
BEGIN:VEVENT
DTSTART;TZID=America/Chicago:20250826T090000
DTEND;TZID=America/Chicago:20250826T110000
DTSTAMP:20260423T153225
CREATED:20250727T122113Z
LAST-MODIFIED:20250727T122113Z
UID:23314-1756198800-1756206000@firstassembly.org
SUMMARY:Women's Bible Study
DESCRIPTION:Join us for a Women’s Bible Study every Tuesday\, at 9:15 am in Room 101.
URL:https://firstassembly.org/events/womens-bible-study-4-6-2-4-5-2-5-5/
LOCATION:Room 101\, 1900 Route C\, Jefferson City\, 65109\, United States
CATEGORIES:Women
ATTACH;FMTTYPE=image/jpeg:https://firstassembly.org/wp-content/uploads/2023/07/womensBibleStudy_screen.jpg
END:VEVENT
BEGIN:VEVENT
DTSTART;TZID=America/Chicago:20250821T063000
DTEND;TZID=America/Chicago:20250821T080000
DTSTAMP:20260423T153225
CREATED:20250727T122711Z
LAST-MODIFIED:20250727T122711Z
UID:23301-1755757800-1755763200@firstassembly.org
SUMMARY:Men's Bible Study
DESCRIPTION:Join us for a Men’s Bible Study every Thursday\, at 6:30 am in the Conference Room.
URL:https://firstassembly.org/events/mens-bible-study-4-5-2-2-4-5-2-5-4/
LOCATION:Conference Room\, 1900 Route C\, Jefferson City\, MO\, 65109\, United States
CATEGORIES:Mens - M6
ATTACH;FMTTYPE=image/jpeg:https://firstassembly.org/wp-content/uploads/2023/07/mensBibleStudy_screen.jpg
END:VEVENT
BEGIN:VEVENT
DTSTART;TZID=America/Chicago:20250820T190000
DTEND;TZID=America/Chicago:20250820T203000
DTSTAMP:20260423T153225
CREATED:20250727T122216Z
LAST-MODIFIED:20250727T122216Z
UID:23309-1755716400-1755721800@firstassembly.org
SUMMARY:Wednesday Evening Services
DESCRIPTION:Come join us on a Wednesday night! \n\nSanctuary Bible Study with Pastor Perkins\nYoung Adult Services (Ages 18-29) in Room 200\nYouth Service (Grades 6-12) in the Gym\nKids Ministries (K-5th Grade) in Room 307 & 308\nNurseries for Ages 0-3 next to the Sanctuary
URL:https://firstassembly.org/events/wednesday-evening-services-7-6-2-4-5-2-5-4/
LOCATION:Church\, 1900 Route C\, Jefferson City\, MO\, 65109\, United States
CATEGORIES:All Church
ATTACH;FMTTYPE=image/png:https://firstassembly.org/wp-content/uploads/2024/08/20240828_wednesday-service.png
END:VEVENT
BEGIN:VEVENT
DTSTART;TZID=America/Chicago:20250819T090000
DTEND;TZID=America/Chicago:20250819T110000
DTSTAMP:20260423T153225
CREATED:20250727T122017Z
LAST-MODIFIED:20250727T122017Z
UID:23313-1755594000-1755601200@firstassembly.org
SUMMARY:Women's Bible Study
DESCRIPTION:Join us for a Women’s Bible Study every Tuesday\, at 9:15 am in Room 101.
URL:https://firstassembly.org/events/womens-bible-study-4-6-2-4-5-2-5-4/
LOCATION:Room 101\, 1900 Route C\, Jefferson City\, 65109\, United States
CATEGORIES:Women
ATTACH;FMTTYPE=image/jpeg:https://firstassembly.org/wp-content/uploads/2023/07/womensBibleStudy_screen.jpg
END:VEVENT
BEGIN:VEVENT
DTSTART;TZID=America/Chicago:20250817T170000
DTEND;TZID=America/Chicago:20251005T190000
DTSTAMP:20260423T153225
CREATED:20250820T150901Z
LAST-MODIFIED:20250820T150901Z
UID:23396-1755450000-1759690800@firstassembly.org
SUMMARY:Biblical Citizenship
DESCRIPTION:Being “salt & light” requires knowledge of the culture we are attempting to preserve as we fulfill the Great Commission to “make disciples.” \nBeing Biblical Citizens requires a knowledge of Biblical principles and how to apply them to the world around us.  \nJoin us for this 8 week session starting Sunday\, August 17\, at 5 pm.  \nThe Biblical Citizenship course includes a captivating overview of the Constitution\, filmed in Independence Hall where the Constitution was actually framed\, along with historically accurate and intriguing facts and artifacts from the founding era\, all enhanced with teachings and interviews from pastors and other Christian leaders who are engaged in today’s cultural battles!
URL:https://firstassembly.org/events/biblical-citizenship-3/
LOCATION:Room 301\, 1900 Route C\, Jefferson City\, MO\, 65109\, United States
CATEGORIES:All Church
END:VEVENT
BEGIN:VEVENT
DTSTART;TZID=America/Chicago:20250815T180000
DTEND;TZID=America/Chicago:20250815T220000
DTSTAMP:20260423T153225
CREATED:20250709T154954Z
LAST-MODIFIED:20250709T154954Z
UID:23271-1755280800-1755295200@firstassembly.org
SUMMARY:Young Adults Golf Fun
DESCRIPTION:Young Adults 18-29\, join us as we “golf” at Midway Golf & Games on Friday\, August 15! This is going to be a fun time filled with swinging and laughing! We will plan on stopping for Chick fil A on our way home. \nCost: $10 plus food \nWe will leave from church at 6pm\, golf 7-8\, grab some “Jesus chicken” and be back at church about 10pm. If you desire\, you can carpool and meet us at Midway. \n  \n  \nRegistration Link
URL:https://firstassembly.org/events/young-adults-golf-fun/
LOCATION:Midway Golf & Games\, 5500 W Van Horn Tavern Rd\, Columbia\, MO\, 65203\, United States
CATEGORIES:Young Adults
END:VEVENT
BEGIN:VEVENT
DTSTART;TZID=America/Chicago:20250814T063000
DTEND;TZID=America/Chicago:20250814T080000
DTSTAMP:20260423T153225
CREATED:20250723T235410Z
LAST-MODIFIED:20250723T235410Z
UID:23300-1755153000-1755158400@firstassembly.org
SUMMARY:Men's Bible Study
DESCRIPTION:Join us for a Men’s Bible Study every Thursday\, at 6:30 am in the Conference Room.
URL:https://firstassembly.org/events/mens-bible-study-4-5-2-2-4-5-2-5-3/
LOCATION:Conference Room\, 1900 Route C\, Jefferson City\, MO\, 65109\, United States
CATEGORIES:Mens - M6
ATTACH;FMTTYPE=image/jpeg:https://firstassembly.org/wp-content/uploads/2023/07/mensBibleStudy_screen.jpg
END:VEVENT
BEGIN:VEVENT
DTSTART;TZID=America/Chicago:20250813T193000
DTEND;TZID=America/Chicago:20250813T203000
DTSTAMP:20260423T153225
CREATED:20250723T235216Z
LAST-MODIFIED:20250723T235216Z
UID:23308-1755113400-1755117000@firstassembly.org
SUMMARY:Wednesday Evening Services
DESCRIPTION:Come join us on a Wednesday night! \n\nSanctuary Bible Study with Pastor Perkins\nYoung Adult Services (Ages 18-29) in Room 200\nYouth Service (Grades 6-12) in the Gym\nKids Ministries (K-5th Grade) in Room 307 & 308\nNurseries for Ages 0-3 next to the Sanctuary
URL:https://firstassembly.org/events/wednesday-evening-services-7-6-2-4-5-2-5-3/
LOCATION:Church\, 1900 Route C\, Jefferson City\, MO\, 65109\, United States
CATEGORIES:All Church
ATTACH;FMTTYPE=image/png:https://firstassembly.org/wp-content/uploads/2024/08/20240828_wednesday-service.png
END:VEVENT
BEGIN:VEVENT
DTSTART;TZID=America/Chicago:20250813T190000
DTEND;TZID=America/Chicago:20250813T203000
DTSTAMP:20260423T153225
CREATED:20250723T235324Z
LAST-MODIFIED:20250723T235324Z
UID:23303-1755111600-1755117000@firstassembly.org
SUMMARY:Bienvenidos Ministerio en Español
DESCRIPTION:Domingo: Escuela Dominical – 9:00AM (Cuarto 300) \nServicio de Adoración – 10:00AM (Cuarto 303) \n  \nMiércoles: Esudio Bíblico – 7:00PM (Cuarto 100)
URL:https://firstassembly.org/events/bienvenidos-ministerio-en-espanol-4-6-2-4-5-2-5-3/
LOCATION:Room 100\, United States
CATEGORIES:Spanish
ATTACH;FMTTYPE=image/jpeg:https://firstassembly.org/wp-content/uploads/2025/02/20250312_Spanish-Ministry.jpg
END:VEVENT
BEGIN:VEVENT
DTSTART;TZID=America/Chicago:20250812T090000
DTEND;TZID=America/Chicago:20250812T110000
DTSTAMP:20260423T153225
CREATED:20250723T235130Z
LAST-MODIFIED:20250723T235130Z
UID:23312-1754989200-1754996400@firstassembly.org
SUMMARY:Women's Bible Study
DESCRIPTION:Join us for a Women’s Bible Study every Tuesday\, at 9:15 am in Room 101.
URL:https://firstassembly.org/events/womens-bible-study-4-6-2-4-5-2-5-3/
LOCATION:Room 101\, 1900 Route C\, Jefferson City\, 65109\, United States
CATEGORIES:Women
ATTACH;FMTTYPE=image/jpeg:https://firstassembly.org/wp-content/uploads/2023/07/womensBibleStudy_screen.jpg
END:VEVENT
BEGIN:VEVENT
DTSTART;TZID=America/Chicago:20250807T063000
DTEND;TZID=America/Chicago:20250807T080000
DTSTAMP:20260423T153225
CREATED:20250723T235034Z
LAST-MODIFIED:20250723T235034Z
UID:23299-1754548200-1754553600@firstassembly.org
SUMMARY:Men's Bible Study
DESCRIPTION:Join us for a Men’s Bible Study every Thursday\, at 6:30 am in the Conference Room.
URL:https://firstassembly.org/events/mens-bible-study-4-5-2-2-4-5-2-5-2/
LOCATION:Conference Room\, 1900 Route C\, Jefferson City\, MO\, 65109\, United States
CATEGORIES:Mens - M6
ATTACH;FMTTYPE=image/jpeg:https://firstassembly.org/wp-content/uploads/2023/07/mensBibleStudy_screen.jpg
END:VEVENT
BEGIN:VEVENT
DTSTART;TZID=America/Chicago:20250806T190000
DTEND;TZID=America/Chicago:20250806T203000
DTSTAMP:20260423T153225
CREATED:20250723T234932Z
LAST-MODIFIED:20250723T234932Z
UID:23304-1754506800-1754512200@firstassembly.org
SUMMARY:Bienvenidos Ministerio en Español
DESCRIPTION:Domingo: Escuela Dominical – 9:00AM (Cuarto 300) \nServicio de Adoración – 10:00AM (Cuarto 303) \n  \nMiércoles: Esudio Bíblico – 7:00PM (Cuarto 100)
URL:https://firstassembly.org/events/bienvenidos-ministerio-en-espanol-4-6-2-4-5-2-5-2/
LOCATION:Room 100\, United States
CATEGORIES:Spanish
ATTACH;FMTTYPE=image/jpeg:https://firstassembly.org/wp-content/uploads/2025/02/20250312_Spanish-Ministry.jpg
END:VEVENT
BEGIN:VEVENT
DTSTART;TZID=America/Chicago:20250806T190000
DTEND;TZID=America/Chicago:20250806T203000
DTSTAMP:20260423T153225
CREATED:20250723T234837Z
LAST-MODIFIED:20250723T234837Z
UID:23307-1754506800-1754512200@firstassembly.org
SUMMARY:Wednesday Evening Services
DESCRIPTION:Come join us on a Wednesday night! \n\nSanctuary Bible Study with Pastor Perkins\nYoung Adult Services (Ages 18-29) in Room 200\nYouth Service (Grades 6-12) in the Gym\nKids Ministries (K-5th Grade) in Room 307 & 308\nNurseries for Ages 0-3 next to the Sanctuary
URL:https://firstassembly.org/events/wednesday-evening-services-7-6-2-4-5-2-5-2/
LOCATION:Church\, 1900 Route C\, Jefferson City\, MO\, 65109\, United States
CATEGORIES:All Church
ATTACH;FMTTYPE=image/png:https://firstassembly.org/wp-content/uploads/2024/08/20240828_wednesday-service.png
END:VEVENT
BEGIN:VEVENT
DTSTART;TZID=America/Chicago:20250805T090000
DTEND;TZID=America/Chicago:20250805T110000
DTSTAMP:20260423T153225
CREATED:20250723T234709Z
LAST-MODIFIED:20250723T234709Z
UID:23311-1754384400-1754391600@firstassembly.org
SUMMARY:Women's Bible Study
DESCRIPTION:Join us for a Women’s Bible Study every Tuesday\, at 9:15 am in Room 101.
URL:https://firstassembly.org/events/womens-bible-study-4-6-2-4-5-2-5-2/
LOCATION:Room 101\, 1900 Route C\, Jefferson City\, 65109\, United States
CATEGORIES:Women
ATTACH;FMTTYPE=image/jpeg:https://firstassembly.org/wp-content/uploads/2023/07/womensBibleStudy_screen.jpg
END:VEVENT
BEGIN:VEVENT
DTSTART;TZID=America/Chicago:20250731T190000
DTEND;TZID=America/Chicago:20250731T203000
DTSTAMP:20260423T153225
CREATED:20250625T230120Z
LAST-MODIFIED:20250625T230120Z
UID:23165-1753988400-1753993800@firstassembly.org
SUMMARY:Men's Bible Study
DESCRIPTION:Join us for a Men’s Bible Study every Thursday\, at 6:30 am in the Conference Room.
URL:https://firstassembly.org/events/mens-bible-study-4-5-2-2-4-5-2-5/
LOCATION:Conference Room\, 1900 Route C\, Jefferson City\, MO\, 65109\, United States
CATEGORIES:Mens - M6
ATTACH;FMTTYPE=image/jpeg:https://firstassembly.org/wp-content/uploads/2023/07/mensBibleStudy_screen.jpg
END:VEVENT
BEGIN:VEVENT
DTSTART;TZID=America/Chicago:20250730T190000
DTEND;TZID=America/Chicago:20250730T203000
DTSTAMP:20260423T153225
CREATED:20250625T225935Z
LAST-MODIFIED:20250625T225935Z
UID:23169-1753902000-1753907400@firstassembly.org
SUMMARY:Bienvenidos Ministerio en Español
DESCRIPTION:Domingo: Escuela Dominical – 9:00AM (Cuarto 300) \nServicio de Adoración – 10:00AM (Cuarto 303) \n  \nMiércoles: Esudio Bíblico – 7:00PM (Cuarto 100)
URL:https://firstassembly.org/events/bienvenidos-ministerio-en-espanol-4-6-2-4-5-2-5/
LOCATION:Room 100\, United States
CATEGORIES:Spanish
ATTACH;FMTTYPE=image/jpeg:https://firstassembly.org/wp-content/uploads/2025/02/20250312_Spanish-Ministry.jpg
END:VEVENT
BEGIN:VEVENT
DTSTART;TZID=America/Chicago:20250729T091500
DTEND;TZID=America/Chicago:20250729T110000
DTSTAMP:20260423T153225
CREATED:20250625T224526Z
LAST-MODIFIED:20250625T224526Z
UID:23177-1753780500-1753786800@firstassembly.org
SUMMARY:Women's Bible Study
DESCRIPTION:Join us for a Women’s Bible Study every Tuesday\, at 9:15 am in Room 101.
URL:https://firstassembly.org/events/womens-bible-study-4-6-2-4-5-2-5/
LOCATION:Room 101\, 1900 Route C\, Jefferson City\, 65109\, United States
CATEGORIES:Women
ATTACH;FMTTYPE=image/jpeg:https://firstassembly.org/wp-content/uploads/2023/07/womensBibleStudy_screen.jpg
END:VEVENT
BEGIN:VEVENT
DTSTART;TZID=America/Chicago:20250726T070000
DTEND;TZID=America/Chicago:20250726T160000
DTSTAMP:20260423T153225
CREATED:20250630T195828Z
LAST-MODIFIED:20250709T154617Z
UID:23246-1753513200-1753545600@firstassembly.org
SUMMARY:Young Adults Float Trip
DESCRIPTION:All Young Adults are invited to float the Niangua River with Living Water Canoe Ministry on Saturday\, July 26\, 2025. You may request a canoe (2 people) or a kayak (1 person). Personally\, I think the kayak is easier to maneuver and is safer\, but you get to choose.\n\nCost is $30 per person. Please bring any snacks you want and WATER!\n\nIt is recommended to wear athletic wear such as athletic swimwear or shorts and tshirt. The risk of sunburn is high! Sunscreen and closed toe shoes\, water shoes\, etc. are important! If you burn easily\, you might want to wear long sleeves.\nWe are LEAVING the church at 7AM!!! We will float for about 4 hours and have a first and roast hot dogs for lunch. We will return about 4pm.\n\nEveryone will need to fill out this waiver before we go: https://www.livingwaterscanoe.org/waiver.html\n\n\n\nRegistration Link
URL:https://firstassembly.org/events/young-adults-float-trip/
LOCATION:Living Waters Christian Canoe Camp\, 309 Prater Homestead Ln\, Macks Creek\, MO\, 65786\, United States
CATEGORIES:Young Adults
END:VEVENT
BEGIN:VEVENT
DTSTART;TZID=America/Chicago:20250725T180000
DTEND;TZID=America/Chicago:20250725T210000
DTSTAMP:20260423T153225
CREATED:20250611T135947Z
LAST-MODIFIED:20250611T135947Z
UID:23119-1753466400-1753477200@firstassembly.org
SUMMARY:M6 Men's Tacos & Trivia Night
DESCRIPTION:M6 Men’s Taco & Trivia Night \nCompete for prizes\, have some tacos\, and test your smarts. Bring your friends\, your appetite\, your brain power and come ready to have a great time. \nThis is a FREE event! \n  \n  \nRegistration Link
URL:https://firstassembly.org/events/m6-mens-tacos-trivia-night/
LOCATION:Church\, 1900 Route C\, Jefferson City\, MO\, 65109\, United States
CATEGORIES:Mens - M6
ATTACH;FMTTYPE=image/jpeg:https://firstassembly.org/wp-content/uploads/2025/06/20250725_Mens-Trivia.jpg
END:VEVENT
BEGIN:VEVENT
DTSTART;TZID=America/Chicago:20250724T063000
DTEND;TZID=America/Chicago:20250724T080000
DTSTAMP:20260423T153225
CREATED:20250625T225305Z
LAST-MODIFIED:20250625T225305Z
UID:23164-1753338600-1753344000@firstassembly.org
SUMMARY:Men's Bible Study
DESCRIPTION:Join us for a Men’s Bible Study every Thursday\, at 6:30 am in the Conference Room.
URL:https://firstassembly.org/events/mens-bible-study-4-5-2-2-4-5-2-4/
LOCATION:Conference Room\, 1900 Route C\, Jefferson City\, MO\, 65109\, United States
CATEGORIES:Mens - M6
ATTACH;FMTTYPE=image/jpeg:https://firstassembly.org/wp-content/uploads/2023/07/mensBibleStudy_screen.jpg
END:VEVENT
END:VCALENDAR